BEGIN:VCALENDAR
VERSION:2.0
PRODID:-//Tukios.com/
BEGIN:VEVENT
UID:03f41f6d-2345-4cb4-9c5d-caddc1a8c97f@www.dinellifuneralhome.com
DTSTAMP:20260423T183741Z
DTSTART:20260429T140000Z
DTEND:20260429T143000Z
SUMMARY:A Christian Burial outside of Mass
DESCRIPTION:Family and friends are invited to A Christian Burial outside 
	of Mass service on Wednesday, April 29th at 10 a.m. with Rev Brian F. Van 
	Fossen officiating.
URL:https://www.dinellifuneralhome.com/obituaries/mark-washik
LOCATION: 170 E Broad St  Nanticoke PA 18634
GEO:41.2036952;-76.0008762
END:VEVENT
END:VCALENDAR