BEGIN:VCALENDAR
VERSION:2.0
PRODID:-//Tukios.com/
BEGIN:VEVENT
UID:f38a121b-a785-4f90-9111-fd3e77a3903a@www.dinellifuneralhome.com
DTSTAMP:20260423T183435Z
DTSTART:20260426T210000Z
DTEND:20260427T000000Z
SUMMARY:Visitation Hours
DESCRIPTION:Family and Friends are invited to Visitation Hours on Sunday, 
	April 26th, from 5 to 8 p.m.
URL:https://www.dinellifuneralhome.com/obituaries/mark-washik
LOCATION: 170 E Broad St  Nanticoke PA 18634
GEO:41.2036952;-76.0008762
END:VEVENT
END:VCALENDAR